BEGIN:VCALENDAR
VERSION:2.0
PRODID:icalendar-ruby
CALSCALE:GREGORIAN
METHOD:PUBLISH
BEGIN:VEVENT
DTSTAMP:20260420T104638Z
UID:6-1015012@fbcsv.org
DTSTART:20230824T020000Z
DTEND:20230824T030000Z
CLASS:PUBLIC
CREATED:20260419T224906
DESCRIPTION:Prayer Meeting
LAST-MODIFIED:20260419T224906
LOCATION:8758 Troy St.\, Spring Valley\, CA
SUMMARY:Prayer Meeting
URL;VALUE=URI:https://fbcsv.org/events/prayer-meeting/2023-08-23
END:VEVENT
END:VCALENDAR
