BEGIN:VCALENDAR
VERSION:2.0
PRODID:icalendar-ruby
CALSCALE:GREGORIAN
METHOD:PUBLISH
BEGIN:VEVENT
DTSTAMP:20260420T123506Z
UID:6-1015615@fbcsv.org
DTSTART:20230831T020000Z
DTEND:20230831T030000Z
CLASS:PUBLIC
CREATED:20260420T035825
DESCRIPTION:Prayer Meeting
LAST-MODIFIED:20260420T035825
LOCATION:8758 Troy St.\, Spring Valley\, CA
SUMMARY:Prayer Meeting
URL;VALUE=URI:https://fbcsv.org/events/prayer-meeting/2023-08-30
END:VEVENT
END:VCALENDAR
