BEGIN:VCALENDAR
VERSION:2.0
PRODID:icalendar-ruby
CALSCALE:GREGORIAN
METHOD:PUBLISH
BEGIN:VEVENT
DTSTAMP:20260420T171133Z
UID:6-1016825@fbcsv.org
DTSTART:20230921T020000Z
DTEND:20230921T030000Z
CLASS:PUBLIC
CREATED:20260420T090803
DESCRIPTION:Prayer Meeting
LAST-MODIFIED:20260420T090803
LOCATION:8758 Troy St.\, Spring Valley\, CA
SUMMARY:Prayer Meeting
URL;VALUE=URI:https://fbcsv.org/events/prayer-meeting/2023-09-20
END:VEVENT
END:VCALENDAR
