BEGIN:VCALENDAR
VERSION:2.0
PRODID:icalendar-ruby
CALSCALE:GREGORIAN
METHOD:PUBLISH
BEGIN:VEVENT
DTSTAMP:20260420T184701Z
UID:6-1017428@fbcsv.org
DTSTART:20230928T020000Z
DTEND:20230928T030000Z
CLASS:PUBLIC
CREATED:20260420T114215
DESCRIPTION:Prayer Meeting
LAST-MODIFIED:20260420T114215
LOCATION:8758 Troy St.\, Spring Valley\, CA
SUMMARY:Prayer Meeting
URL;VALUE=URI:https://fbcsv.org/events/prayer-meeting/2023-09-27
END:VEVENT
END:VCALENDAR
