BEGIN:VCALENDAR
VERSION:2.0
PRODID:icalendar-ruby
CALSCALE:GREGORIAN
METHOD:PUBLISH
BEGIN:VEVENT
DTSTAMP:20260423T084609Z
UID:6-1025860@fbcsv.org
DTSTART:20231026T020000Z
DTEND:20231026T030000Z
CLASS:PUBLIC
CREATED:20260422T183711
DESCRIPTION:Prayer Meeting
LAST-MODIFIED:20260422T183711
LOCATION:8758 Troy St.\, Spring Valley\, CA
SUMMARY:Prayer Meeting
URL;VALUE=URI:https://fbcsv.org/events/prayer-meeting/2023-10-25
END:VEVENT
END:VCALENDAR
