BEGIN:VCALENDAR
VERSION:2.0
PRODID:icalendar-ruby
CALSCALE:GREGORIAN
METHOD:PUBLISH
BEGIN:VEVENT
DTSTAMP:20260423T100411Z
UID:6-1025861@fbcsv.org
DTSTART:20231102T020000Z
DTEND:20231102T030000Z
CLASS:PUBLIC
CREATED:20260422T183711
DESCRIPTION:Prayer Meeting
LAST-MODIFIED:20260422T183711
LOCATION:8758 Troy St.\, Spring Valley\, CA
SUMMARY:Prayer Meeting
URL;VALUE=URI:https://fbcsv.org/events/prayer-meeting/2023-11-01
END:VEVENT
END:VCALENDAR
