BEGIN:VCALENDAR
VERSION:2.0
PRODID:icalendar-ruby
CALSCALE:GREGORIAN
METHOD:PUBLISH
BEGIN:VEVENT
DTSTAMP:20260423T115642Z
UID:6-1026464@fbcsv.org
DTSTART:20231109T030000Z
DTEND:20231109T040000Z
CLASS:PUBLIC
CREATED:20260423T040636
DESCRIPTION:Prayer Meeting
LAST-MODIFIED:20260423T040636
LOCATION:8758 Troy St.\, Spring Valley\, CA
SUMMARY:Prayer Meeting
URL;VALUE=URI:https://fbcsv.org/events/prayer-meeting/2023-11-08
END:VEVENT
END:VCALENDAR
