BEGIN:VCALENDAR
VERSION:2.0
PRODID:icalendar-ruby
CALSCALE:GREGORIAN
METHOD:PUBLISH
BEGIN:VEVENT
DTSTAMP:20260425T112947Z
UID:6-1033707@fbcsv.org
DTSTART:20231207T030000Z
DTEND:20231207T040000Z
CLASS:PUBLIC
CREATED:20260425T040142
DESCRIPTION:Prayer Meeting
LAST-MODIFIED:20260425T040142
LOCATION:8758 Troy St.\, Spring Valley\, CA
SUMMARY:Prayer Meeting
URL;VALUE=URI:https://fbcsv.org/events/prayer-meeting/2023-12-06
END:VEVENT
END:VCALENDAR
