BEGIN:VCALENDAR
VERSION:2.0
PRODID:icalendar-ruby
CALSCALE:GREGORIAN
METHOD:PUBLISH
BEGIN:VEVENT
DTSTAMP:20260425T155138Z
UID:6-1034314@fbcsv.org
DTSTART:20231228T030000Z
DTEND:20231228T040000Z
CLASS:PUBLIC
CREATED:20260425T064310
DESCRIPTION:Prayer Meeting
LAST-MODIFIED:20260425T064310
LOCATION:8758 Troy St.\, Spring Valley\, CA
SUMMARY:Prayer Meeting
URL;VALUE=URI:https://fbcsv.org/events/prayer-meeting/2023-12-27
END:VEVENT
END:VCALENDAR
