BEGIN:VCALENDAR
VERSION:2.0
PRODID:icalendar-ruby
CALSCALE:GREGORIAN
METHOD:PUBLISH
BEGIN:VEVENT
DTSTAMP:20260425T171645Z
UID:6-1034918@fbcsv.org
DTSTART:20240104T030000Z
DTEND:20240104T040000Z
CLASS:PUBLIC
CREATED:20260425T092342
DESCRIPTION:Prayer Meeting
LAST-MODIFIED:20260425T092342
LOCATION:8758 Troy St.\, Spring Valley\, CA
SUMMARY:Prayer Meeting
URL;VALUE=URI:https://fbcsv.org/events/prayer-meeting/2024-01-03
END:VEVENT
END:VCALENDAR
