BEGIN:VCALENDAR
VERSION:2.0
PRODID:icalendar-ruby
CALSCALE:GREGORIAN
METHOD:PUBLISH
BEGIN:VEVENT
DTSTAMP:20260425T202613Z
UID:6-1035523@fbcsv.org
DTSTART:20240118T030000Z
DTEND:20240118T040000Z
CLASS:PUBLIC
CREATED:20260425T120356
DESCRIPTION:Prayer Meeting
LAST-MODIFIED:20260425T120356
LOCATION:8758 Troy St.\, Spring Valley\, CA
SUMMARY:Prayer Meeting
URL;VALUE=URI:https://fbcsv.org/events/prayer-meeting/2024-01-17
END:VEVENT
END:VCALENDAR
