BEGIN:VCALENDAR
VERSION:2.0
PRODID:icalendar-ruby
CALSCALE:GREGORIAN
METHOD:PUBLISH
BEGIN:VEVENT
DTSTAMP:20260425T231822Z
UID:6-1036128@fbcsv.org
DTSTART:20240201T030000Z
DTEND:20240201T040000Z
CLASS:PUBLIC
CREATED:20260425T144605
DESCRIPTION:Prayer Meeting
LAST-MODIFIED:20260425T144605
LOCATION:8758 Troy St.\, Spring Valley\, CA
SUMMARY:Prayer Meeting
URL;VALUE=URI:https://fbcsv.org/events/prayer-meeting/2024-01-31
END:VEVENT
END:VCALENDAR
