BEGIN:VCALENDAR
VERSION:2.0
PRODID:icalendar-ruby
CALSCALE:GREGORIAN
METHOD:PUBLISH
BEGIN:VEVENT
DTSTAMP:20260426T022010Z
UID:6-1036733@fbcsv.org
DTSTART:20240215T030000Z
DTEND:20240215T040000Z
CLASS:PUBLIC
CREATED:20260425T172909
DESCRIPTION:Prayer Meeting
LAST-MODIFIED:20260425T172909
LOCATION:8758 Troy St.\, Spring Valley\, CA
SUMMARY:Prayer Meeting
URL;VALUE=URI:https://fbcsv.org/events/prayer-meeting/2024-02-14
END:VEVENT
END:VCALENDAR
