BEGIN:VCALENDAR
VERSION:2.0
PRODID:icalendar-ruby
CALSCALE:GREGORIAN
METHOD:PUBLISH
BEGIN:VEVENT
DTSTAMP:20260419T184131Z
UID:5-1012321@fbcsv.org
DTSTART:20231224T183000Z
DTEND:20231224T193000Z
CLASS:PUBLIC
CREATED:20260419T080736
DESCRIPTION:Worship Service
LAST-MODIFIED:20260419T080736
LOCATION:8758 Troy St.\, Spring Valley\, CA
SUMMARY:Worship Service
URL;VALUE=URI:https://fbcsv.org/events/worship-service--5/2023-12-24
END:VEVENT
END:VCALENDAR
