BEGIN:VCALENDAR
VERSION:2.0
PRODID:icalendar-ruby
CALSCALE:GREGORIAN
METHOD:PUBLISH
BEGIN:VEVENT
DTSTAMP:20260420T055159Z
UID:5-1014735@fbcsv.org
DTSTART:20240211T183000Z
DTEND:20240211T193000Z
CLASS:PUBLIC
CREATED:20260419T224905
DESCRIPTION:Worship Service
LAST-MODIFIED:20260419T224905
LOCATION:8758 Troy St.\, Spring Valley\, CA
SUMMARY:Worship Service
URL;VALUE=URI:https://fbcsv.org/events/worship-service--5/2024-02-11
END:VEVENT
END:VCALENDAR
