BEGIN:VCALENDAR
VERSION:2.0
PRODID:icalendar-ruby
CALSCALE:GREGORIAN
METHOD:PUBLISH
BEGIN:VEVENT
DTSTAMP:20260420T200044Z
UID:5-1017155@fbcsv.org
DTSTART:20240414T173000Z
DTEND:20240414T183000Z
CLASS:PUBLIC
CREATED:20260420T114215
DESCRIPTION:Worship Service
LAST-MODIFIED:20260420T114215
LOCATION:8758 Troy St.\, Spring Valley\, CA
SUMMARY:Worship Service
URL;VALUE=URI:https://fbcsv.org/events/worship-service--5/2024-04-14
END:VEVENT
END:VCALENDAR
