BEGIN:VCALENDAR
VERSION:2.0
PRODID:icalendar-ruby
CALSCALE:GREGORIAN
METHOD:PUBLISH
BEGIN:VEVENT
DTSTAMP:20260420T213636Z
UID:5-1017758@fbcsv.org
DTSTART:20240421T173000Z
DTEND:20240421T183000Z
CLASS:PUBLIC
CREATED:20260420T141825
DESCRIPTION:Worship Service
LAST-MODIFIED:20260420T141825
LOCATION:8758 Troy St.\, Spring Valley\, CA
SUMMARY:Worship Service
URL;VALUE=URI:https://fbcsv.org/events/worship-service--5/2024-04-21
END:VEVENT
END:VCALENDAR
