BEGIN:VCALENDAR
VERSION:2.0
PRODID:icalendar-ruby
CALSCALE:GREGORIAN
METHOD:PUBLISH
BEGIN:VEVENT
DTSTAMP:20260421T152431Z
UID:5-1019575@fbcsv.org
DTSTART:20240707T173000Z
DTEND:20240707T183000Z
CLASS:PUBLIC
CREATED:20260421T063516
DESCRIPTION:Worship Service
LAST-MODIFIED:20260421T063516
LOCATION:8758 Troy St.\, Spring Valley\, CA
SUMMARY:Worship Service
URL;VALUE=URI:https://fbcsv.org/events/worship-service--5/2024-07-07
END:VEVENT
END:VCALENDAR
