BEGIN:VCALENDAR
VERSION:2.0
PRODID:icalendar-ruby
CALSCALE:GREGORIAN
METHOD:PUBLISH
BEGIN:VEVENT
DTSTAMP:20260423T101728Z
UID:5-1025600@fbcsv.org
DTSTART:20240811T173000Z
DTEND:20240811T183000Z
CLASS:PUBLIC
CREATED:20260422T183711
DESCRIPTION:Worship Service
LAST-MODIFIED:20260422T183711
LOCATION:8758 Troy St.\, Spring Valley\, CA
SUMMARY:Worship Service
URL;VALUE=URI:https://fbcsv.org/events/worship-service--5/2024-08-11
END:VEVENT
END:VCALENDAR
