BEGIN:VCALENDAR
VERSION:2.0
PRODID:icalendar-ruby
CALSCALE:GREGORIAN
METHOD:PUBLISH
BEGIN:VEVENT
DTSTAMP:20260423T115405Z
UID:5-1026203@fbcsv.org
DTSTART:20240818T173000Z
DTEND:20240818T183000Z
CLASS:PUBLIC
CREATED:20260423T040635
DESCRIPTION:Worship Service
LAST-MODIFIED:20260423T040635
LOCATION:8758 Troy St.\, Spring Valley\, CA
SUMMARY:Worship Service
URL;VALUE=URI:https://fbcsv.org/events/worship-service--5/2024-08-18
END:VEVENT
END:VCALENDAR
